BEGIN:VCALENDAR
VERSION:2.0
METHOD:PUBLISH
X-WR-CALNAME:Mercociudades |  December 24 2016- April 03 2017
PRODID:-//strange bird labs//Drupal iCal API//EN
BEGIN:VEVENT
DTSTAMP;VALUE=DATE-TIME:20260423T081714Z
DTSTART;VALUE=DATE-TIME:20170130T191000Z
DTEND;VALUE=DATE-TIME:20020203
UID:http://portal.mercociudades.net/pt-br/node/6219
URL;VALUE=URI:http://portal.mercociudades.net/pt-br/node/6219
SUMMARY:Inicio del Diplomado “Acción internacional de los gobiernos locales”
DESCRIPTION:<p>Inicio del Diplomado &ldquo\;Acci&oacute\;n internacional de los gobiernos<br />
 locales&rdquo\;\, organizado por el proyecto AL-LAs. Con cupos y<br />
 descuentos para las mercociudades.</p>
 <p><a href=\\"http\://www.mercociudades.org/node/6151\\">M&aacute\;s informaci&oacute\;n</a></p>
 <p>&nbsp\;</p>
 
END:VEVENT
BEGIN:VEVENT
DTSTAMP;VALUE=DATE-TIME:20260423T081714Z
DTSTART;VALUE=DATE-TIME:20170202T163900Z
DTEND;VALUE=DATE-TIME:20020203
UID:http://portal.mercociudades.net/pt-br/node/6193
URL;VALUE=URI:http://portal.mercociudades.net/pt-br/node/6193
SUMMARY:Reunión de la Dirección Ejecutiva de Mercociudades
DESCRIPTION:<p>Reuni&oacute\;n de la Direcci&oacute\;n Ejecutiva de Mercociudades\, en Santa Fe\, Argentina</p>
 <p><a href=\\"http\://www.mercociudades.org/node/6191\\">M&aacute\;s informaci&oacute\;n</a><br />
 &nbsp\;</p>
 <p>&nbsp\;</p>
 
END:VEVENT
BEGIN:VEVENT
DTSTAMP;VALUE=DATE-TIME:20260423T081714Z
DTSTART;VALUE=DATE-TIME:20170220T190700Z
DTEND;VALUE=DATE-TIME:20020203
UID:http://portal.mercociudades.net/pt-br/node/6218
URL;VALUE=URI:http://portal.mercociudades.net/pt-br/node/6218
SUMMARY:Retiro y Campus de Ciudades y Gobiernos Locales Unidos
DESCRIPTION:<p>Retiro y Campus de Ciudades y Gobiernos Locales Unidos\, con la&nbsp\;participaci&oacute\;n de Mercociudades en calidad de co-vicepresidencia de&nbsp\;Am&eacute\;rica Latina.</p>
 <p><a href=\\"http\://www.mercociudades.org/node/6216\\">M&aacute\;s informaci&oacute\;n</a></p>
 <p>&nbsp\;</p>
 
END:VEVENT
BEGIN:VEVENT
DTSTAMP;VALUE=DATE-TIME:20260423T081714Z
DTSTART;VALUE=DATE-TIME:20170306T184300Z
DTEND;VALUE=DATE-TIME:20020203
UID:http://portal.mercociudades.net/pt-br/node/6227
URL;VALUE=URI:http://portal.mercociudades.net/pt-br/node/6227
SUMMARY:Inicio del curso “Economía Urbana\: hacia una estrategia Desarrollo Local Inclusivo y Sostenible”
DESCRIPTION:<p>Inicio del curso &ldquo\;Econom&iacute\;a Urbana\: hacia una estrategia<br />
 Desarrollo Local Inclusivo y Sostenible&rdquo\;. <strong>Postulaciones hasta el&nbsp\;3 de marzo. </strong></p>
 <p><a href=\\"http\://www.mercociudades.org/node/6225\\">M&aacute\;s informaci&oacute\;n</a></p>
 <p>&nbsp\;</p>
 
END:VEVENT
BEGIN:VEVENT
DTSTAMP;VALUE=DATE-TIME:20260423T081714Z
DTSTART;VALUE=DATE-TIME:20170307T164200Z
DTEND;VALUE=DATE-TIME:20020203
UID:http://portal.mercociudades.net/pt-br/node/6194
URL;VALUE=URI:http://portal.mercociudades.net/pt-br/node/6194
SUMMARY:Quinta Plataforma Regional para la Reducción de Riesgos de Desastres en las Américas.
DESCRIPTION:<p>Quinta Plataforma Regional para la Reducci&oacute\;n de Riesgos de Desastres en las Am&eacute\;ricas\, en Montreal\, Canad&aacute\;. <strong>Inscripciones abiertas hasta el 15 de febrero.</strong></p>
 <p><a href=\\"http\://www.mercociudades.org/node/6237\\">Mas informaci&oacute\;n</a><br />
 &nbsp\;</p>
 <p>&nbsp\;</p>
 
END:VEVENT
BEGIN:VEVENT
DTSTAMP;VALUE=DATE-TIME:20260423T081714Z
DTSTART;VALUE=DATE-TIME:20170308T164400Z
DTEND;VALUE=DATE-TIME:20020203
UID:http://portal.mercociudades.net/pt-br/node/6195
URL;VALUE=URI:http://portal.mercociudades.net/pt-br/node/6195
SUMMARY:Día Internacional de la Mujer
DESCRIPTION:<p><a href=\\"http\://www.mercociudades.org/node/6235\\">D&iacute\;a Internacional de la Mujer</a></p>
 <p>&nbsp\;</p>
 
END:VEVENT
BEGIN:VEVENT
DTSTAMP;VALUE=DATE-TIME:20260423T081714Z
DTSTART;VALUE=DATE-TIME:20170318T144700Z
DTEND;VALUE=DATE-TIME:20020203
UID:http://portal.mercociudades.net/pt-br/node/6279
URL;VALUE=URI:http://portal.mercociudades.net/pt-br/node/6279
SUMMARY:Reunión Grupo de Discapacidad e Inclusión
DESCRIPTION:<p>&nbsp\;Reuni&oacute\;n Grupo de Discapacidad e Inclusi&oacute\;n\, en Montevideo.<br />
 <a href=\\"http\://www.mercociudades.org/node/6249\\">M&aacute\;s informaci&oacute\;n</a></p>
 
END:VEVENT
BEGIN:VEVENT
DTSTAMP;VALUE=DATE-TIME:20260423T081714Z
DTSTART;VALUE=DATE-TIME:20170320T164600Z
DTEND;VALUE=DATE-TIME:20020203
UID:http://portal.mercociudades.net/pt-br/node/6197
URL;VALUE=URI:http://portal.mercociudades.net/pt-br/node/6197
SUMMARY:Encuentro de coordinadores y subcoordinadores de instancias Temáticas\, Dirección Ejecutiva y Secretaría Técnica Permanente de Mercociudades
DESCRIPTION:<p>Encuentro de coordinadores y subcoordinadores de instancias Tem&aacute\;ticas\, Direcci&oacute\;n Ejecutiva y Secretar&iacute\;a T&eacute\;cnica Permanente de Mercociudades\, en Montevideo\, Uruguay.<br />
 <a href=\\"http\://www.mercociudades.org/node/6245\\">M&aacute\;s informaci&oacute\;n</a></p>
 <p>&nbsp\;</p>
 
END:VEVENT
BEGIN:VEVENT
DTSTAMP;VALUE=DATE-TIME:20260423T081714Z
DTSTART;VALUE=DATE-TIME:20170326T165000Z
DTEND;VALUE=DATE-TIME:20020203
UID:http://portal.mercociudades.net/pt-br/node/6198
URL;VALUE=URI:http://portal.mercociudades.net/pt-br/node/6198
SUMMARY:26º Aniversario del Mercosur
DESCRIPTION:<p>26&ordm\; Aniversario del Mercosur</p>
 <p><a href=\\"http\://www.mercosur.int\\">www.mercosur.int</a>&nbsp\;</p>
 
END:VEVENT
END:VCALENDAR
