BEGIN:VCALENDAR
VERSION:2.0
METHOD:PUBLISH
X-WR-CALNAME:Mercociudades |  marzo 19 2017- marzo 26 2017
PRODID:-//strange bird labs//Drupal iCal API//EN
BEGIN:VEVENT
DTSTAMP;VALUE=DATE-TIME:20260421T023045Z
DTSTART;VALUE=DATE-TIME:20170320T164600Z
DTEND;VALUE=DATE-TIME:20020203
UID:http://portal.mercociudades.net/node/6197
URL;VALUE=URI:http://portal.mercociudades.net/node/6197
SUMMARY:Encuentro de coordinadores y subcoordinadores de instancias Temáticas\, Dirección Ejecutiva y Secretaría Técnica Permanente de Mercociudades
DESCRIPTION:<p>Encuentro de coordinadores y subcoordinadores de instancias Tem&aacute\;ticas\, Direcci&oacute\;n Ejecutiva y Secretar&iacute\;a T&eacute\;cnica Permanente de Mercociudades\, en Montevideo\, Uruguay.<br />
 <a href=\\"http\://www.mercociudades.org/node/6245\\">M&aacute\;s informaci&oacute\;n</a></p>
 <p>&nbsp\;</p>
 
END:VEVENT
END:VCALENDAR
