BEGIN:VCALENDAR
VERSION:2.0
METHOD:PUBLISH
X-WR-CALNAME:Mercociudades |  agosto 21 2016- agosto 28 2016
PRODID:-//strange bird labs//Drupal iCal API//EN
BEGIN:VEVENT
DTSTAMP;VALUE=DATE-TIME:20260423T014104Z
DTSTART;VALUE=DATE-TIME:20160801T181800Z
DTEND;VALUE=DATE-TIME:20020203
UID:http://portal.mercociudades.net/node/5963
URL;VALUE=URI:http://portal.mercociudades.net/node/5963
SUMMARY:Actividades de jóvenes voluntarios de las mercociudades en los Juegos Olímpicos Rio 2016
DESCRIPTION:<p>Actividades de j&oacute\;venes voluntarios de las mercociudades en los Juegos Ol&iacute\;mpicos Rio 2016</p>
 <p><a href=\\"http\://mercociudades.org/node/5959\\">M&aacute\;s informaci&oacute\;n &nbsp\;</a></p>
 
END:VEVENT
BEGIN:VEVENT
DTSTAMP;VALUE=DATE-TIME:20260423T014104Z
DTSTART;VALUE=DATE-TIME:20160825T184200Z
DTEND;VALUE=DATE-TIME:20020203
UID:http://portal.mercociudades.net/node/5967
URL;VALUE=URI:http://portal.mercociudades.net/node/5967
SUMMARY:Reunión conjunta entre las unidades de Ambiente y Desarrollo Sostenible y Desarrollo Urbano
DESCRIPTION:<p>Reuni&oacute\;n conjunta de las Unidades Tem&aacute\;ticas de Ambiente y Desarrollo Sostenible y Desarrollo Urbano\, en Esteban Etcheverr&iacute\;a\, Argentina.<br />
 <a href=\\"http\://www.mercociudades.org/node/5973\\">M&aacute\;s informaci&oacute\;n</a></p>
 <p>&nbsp\;</p>
 
END:VEVENT
END:VCALENDAR
